BEGIN:VCALENDAR
VERSION:2.0
PRODID:-//Restaurant Lindbergh - ECPv6.4.0.1//NONSGML v1.0//EN
CALSCALE:GREGORIAN
METHOD:PUBLISH
X-WR-CALNAME:Restaurant Lindbergh
X-ORIGINAL-URL:https://restaurant-lindbergh.de
X-WR-CALDESC:Veranstaltungen für Restaurant Lindbergh
REFRESH-INTERVAL;VALUE=DURATION:PT1H
X-Robots-Tag:noindex
X-PUBLISHED-TTL:PT1H
BEGIN:VTIMEZONE
TZID:Europe/Berlin
BEGIN:DAYLIGHT
TZOFFSETFROM:+0100
TZOFFSETTO:+0200
TZNAME:CEST
DTSTART:20250330T010000
END:DAYLIGHT
BEGIN:STANDARD
TZOFFSETFROM:+0200
TZOFFSETTO:+0100
TZNAME:CET
DTSTART:20251026T010000
END:STANDARD
END:VTIMEZONE
BEGIN:VEVENT
DTSTART;TZID=Europe/Berlin:20250712T220000
DTEND;TZID=Europe/Berlin:20250713T050000
DTSTAMP:20260420T043630
CREATED:20250703T094409Z
LAST-MODIFIED:20250703T094644Z
UID:10000056-1752357600-1752382800@restaurant-lindbergh.de
SUMMARY:AFTERPARTY TANZ DER BÄSSE - EINTRITT FREI MIT FESTIVALBÄNDCHEN
DESCRIPTION:23.00 – 01.00 Uhr – MAX WELL\n01:00 – 03:00 Uhr – SECRET ACT\n03:00 – 05:00 Uhr – DAVID SAMO B2B EDDIE00 \nEINTRITT FREI MIT FESTIVALBÄNDCHEN\nSonst AK: 15 € \nStudenten-Rabatt\, Eintritt 8 €\nGilt für alle Studenten der Stadt Mannheim (DHBW\, Mannheim Business School\, JURA\, Hochschule des Bundes Fachbereich Bundeswehrverwaltung etc.) bei vorzeigen des Studentenausweises an der Abendkasse.
URL:https://restaurant-lindbergh.de/event/lindbergh-afterparty-tanz-der-baesse-12-07-2025/
LOCATION:Restaurant Lindbergh – Biergarten\, Seckenheimer Landstraße 170\, Mannheim\, 68163\, Deutschland
ATTACH;FMTTYPE=image/jpeg:https://restaurant-lindbergh.de/wp-content/uploads/2025/07/afterparty-tanz-der-baesse-12-07-2025.jpg
END:VEVENT
BEGIN:VEVENT
DTSTART;TZID=Europe/Berlin:20250704T170000
DTEND;TZID=Europe/Berlin:20250704T233000
DTSTAMP:20260420T043630
CREATED:20250703T093419Z
LAST-MODIFIED:20250703T093419Z
UID:10000055-1751648400-1751671800@restaurant-lindbergh.de
SUMMARY:LINDBERGH LIDO DJ ILJA ZAPATTOS - EINTRITT FREI
DESCRIPTION:EINTRITT FREI \nBeginn: 17 Uhr\nDJ Ilja Zapattos ab 18 Uhr\n\nMUSIC – APERITIVO – COCKTAILS – SNACKS – RELAX \n 
URL:https://restaurant-lindbergh.de/event/lindbergh-lido-04-07-2025/
LOCATION:Restaurant Lindbergh – Biergarten\, Seckenheimer Landstraße 170\, Mannheim\, 68163\, Deutschland
ATTACH;FMTTYPE=image/jpeg:https://restaurant-lindbergh.de/wp-content/uploads/2025/07/lindbergh-lido-04-07-2025.jpg
END:VEVENT
BEGIN:VEVENT
DTSTART;TZID=Europe/Berlin:20250618T170000
DTEND;TZID=Europe/Berlin:20250618T233000
DTSTAMP:20260420T043630
CREATED:20250616T141122Z
LAST-MODIFIED:20250616T141122Z
UID:10000053-1750266000-1750289400@restaurant-lindbergh.de
SUMMARY:LINDBERGH LIDO AFTER WORK - EINTRITT FREI
DESCRIPTION:EINTRITT FREI \nSOMMER IM LINDBERGH\nMUSIC – APERITIVO – COCKTAILS – SNACKS – RELAX \nAFTER WORK\nVORFEIERTAG \n 
URL:https://restaurant-lindbergh.de/event/lindbergh-lido-after-work-18-06-2025/
LOCATION:Restaurant Lindbergh – Biergarten\, Seckenheimer Landstraße 170\, Mannheim\, 68163\, Deutschland
ATTACH;FMTTYPE=image/jpeg:https://restaurant-lindbergh.de/wp-content/uploads/2025/06/lindbergh-lido-after-work-18-juni-2025.jpg
END:VEVENT
BEGIN:VEVENT
DTSTART;TZID=Europe/Berlin:20250613T173000
DTEND;TZID=Europe/Berlin:20250613T233000
DTSTAMP:20260420T043630
CREATED:20250522T132655Z
LAST-MODIFIED:20250611T171524Z
UID:10000050-1749835800-1749857400@restaurant-lindbergh.de
SUMMARY:LINDBERGH LIDO OPENING PARTY - EINTRITT FREI
DESCRIPTION:EINTRITT FREI \nSOMMER IM LINDBERGH\nMUSIC – APERITIVO – COCKTAIL – SNACK – RELAX \n13. Juni OPENING PARTY\nwelcome drink & fingerfood \nLINDBERGH LIDO\nJeden Freitag & Samstag ab 17:30 Uhr im neuen Beachbereich vom Restaurant Lindbergh
URL:https://restaurant-lindbergh.de/event/lindbergh-lido-eintritt-frei/
LOCATION:Restaurant Lindbergh – Biergarten\, Seckenheimer Landstraße 170\, Mannheim\, 68163\, Deutschland
ATTACH;FMTTYPE=image/jpeg:https://restaurant-lindbergh.de/wp-content/uploads/2025/05/lindbergh-lido.jpg
END:VEVENT
END:VCALENDAR