BEGIN:VCALENDAR
VERSION:2.0
PRODID:-//Restaurant Lindbergh - ECPv6.4.0.1//NONSGML v1.0//EN
CALSCALE:GREGORIAN
METHOD:PUBLISH
X-WR-CALNAME:Restaurant Lindbergh
X-ORIGINAL-URL:https://restaurant-lindbergh.de
X-WR-CALDESC:Veranstaltungen für Restaurant Lindbergh
REFRESH-INTERVAL;VALUE=DURATION:PT1H
X-Robots-Tag:noindex
X-PUBLISHED-TTL:PT1H
BEGIN:VTIMEZONE
TZID:Europe/Berlin
BEGIN:DAYLIGHT
TZOFFSETFROM:+0100
TZOFFSETTO:+0200
TZNAME:CEST
DTSTART:20240331T010000
END:DAYLIGHT
BEGIN:STANDARD
TZOFFSETFROM:+0200
TZOFFSETTO:+0100
TZNAME:CET
DTSTART:20241027T010000
END:STANDARD
END:VTIMEZONE
BEGIN:VEVENT
DTSTART;TZID=Europe/Berlin:20240525T210000
DTEND;TZID=Europe/Berlin:20240525T210000
DTSTAMP:20260420T075751
CREATED:20240513T125917Z
LAST-MODIFIED:20240521T160447Z
UID:10000001-1716670800-1716670800@restaurant-lindbergh.de
SUMMARY:CLUBNIGHT DJ GREG SILVER
DESCRIPTION:Tickets unter: www.foreverdisko.de \nAK: 13 €  \nLounge Reservierung kostet:\n200 € Mindestverzehr von 4 bis 8 Personen oder 100 € Mindestverzehr von 2 bis 4 Personen. \nLounge Reservierung mit Event Datum\, Name und Telefonnummer an: lounges@bluetower-lindbergh.de
URL:https://restaurant-lindbergh.de/event/clubnight-dj-greg-silver/
LOCATION:BLUETOWER\, Seckenheimer Landstraße 170\, Mannheim\, 68163\, Deutschland
ATTACH;FMTTYPE=image/jpeg:https://restaurant-lindbergh.de/wp-content/uploads/2024/05/clubnight-25-05-24.jpg
END:VEVENT
END:VCALENDAR